BEGIN:VCALENDAR
PRODID:-//hacksw/handcal//NONSGML v1.0//EN
VERSION:2.0
CALSCALE:GREGORIAN
BEGIN:VEVENT
UID:cbbb027ea83f3d78c69d416d88014c6b
DTSTAMP:20260426T004045Z
SUMMARY:Hearing on the Right to be Forgotten for cancer survivors
DESCRIPTION:The EPP Group is organising a hearing on the Right to be Forgot
 ten for cancer survivors on Wednesday 12 May from 14h until 16h\, with the
  intervention of the Portuguese Minister of Science\, Technology and Highe
 r Education\, Manuel Heitor. The hearing...
DTSTART;TZID=Europe/Paris:20210512T140000
DTEND;TZID=Europe/Paris:20210512T160000
ATTACH:https://www.eppgroup.eu/download/file/PZy1WYmNHzC3DdxhZot_mUnPzyEu90
 GYoSEXecKNfoEw7m1iXCvkAm1YYl8AAAACDQ
END:VEVENT
END:VCALENDAR
