BEGIN:VCALENDAR
PRODID:-//hacksw/handcal//NONSGML v1.0//EN
VERSION:2.0
CALSCALE:GREGORIAN
BEGIN:VEVENT
UID:d5b9e759738a473d1ef2a51d5e3f7362
DTSTAMP:20260422T183226Z
SUMMARY:The forgotten Hero – Matthias Erzberger – Commemorating his las
 ting contribution to Democracy
DESCRIPTION:Matthias Erzberger Transcription&nbsp\;(DE\,&nbsp\;EN)\n\nJoin 
 us for a hybrid event on Wednesday 24&nbsp\;November from 13.00-14.00 hrs 
 to commemorate the 100th anniversary of the death of Matthias Erzberger\, 
 a German publicist\, politician and Finance...
DTSTART;TZID=Europe/Paris:20211124T130000
DTEND;TZID=Europe/Paris:20211124T140000
ATTACH:https://www.eppgroup.eu/download/file/QZd5eVEi8Tj4sMixuwm1hYipt4V_27
 D6JDv_GNMZ14cDgU9TWE7nc_pPy88AAAACDQ
END:VEVENT
END:VCALENDAR
