BEGIN:VCALENDAR
PRODID:-//hacksw/handcal//NONSGML v1.0//EN
VERSION:2.0
CALSCALE:GREGORIAN
BEGIN:VEVENT
UID:af8ed1828eb97088bc7de59710831943
DTSTAMP:20260422T202935Z
SUMMARY:Europe Day Strasbourg 2022
DESCRIPTION:...
DTSTART;TZID=Europe/Paris:20220515T100000
DTEND;TZID=Europe/Paris:20220515T173000
LOCATION:European Parliament Strasbourg
ATTACH:https://www.eppgroup.eu/download/file/WFSCIXVXhMHo4saKN5XreLp8kxQJwh
 Qgkbwne9IgwZmoY3TpWhJMKj-EHJMAAAACDQ
END:VEVENT
END:VCALENDAR
