BEGIN:VCALENDAR
PRODID:-//hacksw/handcal//NONSGML v1.0//EN
VERSION:2.0
CALSCALE:GREGORIAN
BEGIN:VEVENT
UID:b65dcbddf0561c0c9b20cf3eeec7074d
DTSTAMP:20260425T201606Z
SUMMARY:EPP Group IMCO Hearing on Sovereignty in the Digital Single Market 
DESCRIPTION:Description of the event\n\nThe European economy's sovereignty 
 is threatened by far-reaching technological and geopolitical changes. In s
 uch a threatening environment\, the window of opportunity to shape Europe'
 s digital future is closing rapidly\,...
DTSTART;TZID=Europe/Paris:20240911T140000
DTEND;TZID=Europe/Paris:20240911T170000
LOCATION:6Q1\, Brussels 
ATTACH:https://www.eppgroup.eu/download/file/DExTzHSEHSwe1X35wtA-dQxxfy5Nxf
 8zn12uWypVj6wtzgMiG6D0ANhkoWoAAAACCMjF
END:VEVENT
END:VCALENDAR
