BEGIN:VCALENDAR
PRODID:-//hacksw/handcal//NONSGML v1.0//EN
VERSION:2.0
CALSCALE:GREGORIAN
BEGIN:VEVENT
UID:dd6a4478c537907c5e65b1d1f10da2c8
DTSTAMP:20260422T210441Z
SUMMARY:EPP Group LIVE Event: The Future of Europe
DESCRIPTION:Join us for a dynamic debate on the Future of Europe. Our Europ
 ean Union has accomplished great things in the past thanks to its ability 
 to renew itself\, to change and adapt to the new challenges we face. In th
 e last decade\, Europe has had to cope...
DTSTART;TZID=Europe/Paris:20210421T144500
DTEND;TZID=Europe/Paris:20210421T170000
ATTACH:https://www.eppgroup.eu/download/file/D2e_CSxQFVtQaFCwY3KyxroPRBMFXd
 J-2R2tQi4kmfLBE-Q_wwHF60lmrKAAAAACCMfr
END:VEVENT
END:VCALENDAR
