BEGIN:VCALENDAR
PRODID:-//hacksw/handcal//NONSGML v1.0//EN
VERSION:2.0
CALSCALE:GREGORIAN
BEGIN:VEVENT
UID:5045706bdd46524a3dc4c4ea0d9164d7
DTSTAMP:20260421T085551Z
SUMMARY:Inauguration of Sophie Scholl building
DESCRIPTION:The European Parliament named one of its buildings (50 rue Wirt
 z\, Brussels) after Sophie Scholl\, following a proposal by the EPP Group.
 \n\nAt the official inauguration ceremony on 10 April\, EPP Group Chairman
  Manfred Weber\, Parliament’s President R...
DTSTART;TZID=Europe/Paris:20240410T103000
DTEND;TZID=Europe/Paris:20240410T113000
LOCATION:European Parliament\, Brussels
ATTACH:https://www.eppgroup.eu/download/file/W8jAEUMZTcfGDia_bYqcZEQ3QL5qgV
 vvoglU3-UMl7BjltUlxJKoBjlAzx8AAAACDQ
END:VEVENT
END:VCALENDAR
