BEGIN:VCALENDAR
PRODID:-//hacksw/handcal//NONSGML v1.0//EN
VERSION:2.0
CALSCALE:GREGORIAN
BEGIN:VEVENT
UID:50b8a4374e6c3d25636c415d5ac164a9
DTSTAMP:20260426T005853Z
SUMMARY:Hearing on public procurement in the context of COVID-19\n
DESCRIPTION:The EPP Group hearing&nbsp\;will discuss the challenges to publ
 ic procurement procedures during the first weeks of the COVID-19 pandemic 
 and will assess the fitness of our current public procurement framework to
  respond to extraordinary situations...
DTSTART;TZID=Europe/Paris:20201015T140000
DTEND;TZID=Europe/Paris:20201015T153000
LOCATION:Virtual meeting\, Brussels
ATTACH:https://www.eppgroup.eu/download/file/T1TDAKgEorVOyG1bsyC4T2fP_tYIfh
 Z712u5PvaqbH8sH3qn0S2t_is9X9MAAAACCMf0
END:VEVENT
END:VCALENDAR
