BEGIN:VCALENDAR
PRODID:-//hacksw/handcal//NONSGML v1.0//EN
VERSION:2.0
CALSCALE:GREGORIAN
BEGIN:VEVENT
UID:e3eb40547378384759fa988bcb772252
DTSTAMP:20260422T200953Z
SUMMARY:Enter our Graduate Essay Competition:  EVENTS IN MEMBER STATES - EP
 P GROUP HAPPENINGS.
DESCRIPTION:Are you a European undergraduate or graduate student passionate
  about shaping the EU's future?\n\nDo you want to win the chance to become
  the EPP Group’s&nbsp\;next trainee?\n\nThen this is the right place for
  YOU.\n\nWelcome to the&nbsp\;EPP Group R...
DTSTART;TZID=Europe/Paris:20230501T000000
DTEND;TZID=Europe/Paris:20230612T235900
ATTACH:https://www.eppgroup.eu/download/file/D3oPoqErg5BoTe_6D5b8UTNmtL_l51
 ve8DtiButHuAeo9q1NXgDVpYK3n9YAAAACDQ
END:VEVENT
END:VCALENDAR
