BEGIN:VCALENDAR
PRODID:-//hacksw/handcal//NONSGML v1.0//EN
VERSION:2.0
CALSCALE:GREGORIAN
BEGIN:VEVENT
UID:9111475e3799f5d899a24cfa426a1fea
DTSTAMP:20260420T164144Z
SUMMARY:EPP Group Hearing: Tackling Distortive Foreign Subsidies in the Sin
 gle Market
DESCRIPTION:In May 2021\, the European Commission tabled a proposal to tack
 le foreign subsidies distorting the Single Market. The proposal addresses 
 a longstanding regulatory gap that puts European companies at a competitiv
 e disadvantage vis-à-vis certain ...
DTSTART;TZID=Europe/Paris:20220113T100000
DTEND;TZID=Europe/Paris:20220113T120000
LOCATION:The SPAAK 3C50 meeting room will be physically accessible to MEPs 
 only
ATTACH:https://www.eppgroup.eu/download/file/Em4nyzFdDQ8eG_ILlQ6yxLnLCNI_uc
 6vOO57izc9leIoEU0SoU9kG2valvcAAAACDQ
END:VEVENT
END:VCALENDAR
