BEGIN:VCALENDAR
PRODID:-//hacksw/handcal//NONSGML v1.0//EN
VERSION:2.0
CALSCALE:GREGORIAN
BEGIN:VEVENT
UID:75399c7984f3692ee76e2c5db3046bd2
DTSTAMP:20260421T085646Z
SUMMARY:EPP Group Public Hearing - Pegasus spyware scandal and its impact o
 n democracy in the EU
DESCRIPTION:On Thursday\, 10 February from&nbsp\;11.00-13.00\, the EPP Grou
 p will organise a public hearing on the threats posed by the Pegasus spywa
 re to democracy and the rule of law. During the online event\, Members of 
 Parliament and experts will assess...
DTSTART;TZID=Europe/Paris:20220210T110000
DTEND;TZID=Europe/Paris:20220210T130000
LOCATION:JAN 2Q2
ATTACH:https://www.eppgroup.eu/download/file/9w3senCyhrgnezO8XMg4Bl8hfpVLR4
 OFaxLBmWSjlBStysPI0AZfIspqJoUAAAACCMfi
END:VEVENT
END:VCALENDAR
