BEGIN:VCALENDAR
PRODID:-//hacksw/handcal//NONSGML v1.0//EN
VERSION:2.0
CALSCALE:GREGORIAN
BEGIN:VEVENT
UID:5eaf80f0a91a55bd7063f2a3e42d9d90
DTSTAMP:20260422T201120Z
SUMMARY:Europe Day Brussels 2022
DESCRIPTION:...
DTSTART;TZID=Europe/Paris:20220507T100000
DTEND;TZID=Europe/Paris:20220507T173000
LOCATION:European Parliament Brussels
ATTACH:https://www.eppgroup.eu/download/file/WHfIYZjTJed4HyqUkv0QZkJE31C39F
 Oe7zZGpm0cs5QiPtJIhFzvtZS4McAAAAACDQ
END:VEVENT
END:VCALENDAR
