BEGIN:VCALENDAR
PRODID:-//hacksw/handcal//NONSGML v1.0//EN
VERSION:2.0
CALSCALE:GREGORIAN
BEGIN:VEVENT
UID:53479574bf52bfda0237dad0b0af2b68
DTSTAMP:20260421T101249Z
SUMMARY:EPP Group Hearing - Boosting Europe's Construction Sector: the Revi
 sion of the Construction Products Regulation\n\n
DESCRIPTION:EPP Group Hearing hosted by the MEPs Christian Doleschal\, Dr. 
 Andreas Schwab\, Sirpa&nbsp\;Pietikäinen and Pascal Arimont\n\nProgramme\
 n\nIntroduction by EPP Group IMCO Coordinator Dr. Andreas Schwab\n\nKeynot
 e by Rapporteur for the Revision of the ...
DTSTART;TZID=Europe/Paris:20221012T143000
DTEND;TZID=Europe/Paris:20221012T163000
LOCATION:JAN 6Q1
ATTACH:https://www.eppgroup.eu/download/file/WR9wdzSyWgPZVFB0_UbhLfO2LPV0VN
 VVOgo7ZQljinQ2CwvbYaW3ozhI4gcAAAACCMfZ
END:VEVENT
END:VCALENDAR
