BEGIN:VCALENDAR
PRODID:-//hacksw/handcal//NONSGML v1.0//EN
VERSION:2.0
CALSCALE:GREGORIAN
BEGIN:VEVENT
UID:35014366e2ef3d316560fc37de704f05
DTSTAMP:20260426T002326Z
SUMMARY:#EUCanBeatCancer event: United against Cancer
DESCRIPTION:On Wednesday 3 February\, the EPP Group will gather with three 
 European Commissioners\, namely Vice-President Margaritis Schinas\, Europe
 an Commissioner for Promoting the European Way of Life\, Commissioner for 
 Health and Food Safety\, Stella Kyriakides\,...
DTSTART;TZID=Europe/Paris:20210203T151000
DTEND;TZID=Europe/Paris:20210203T170000
ATTACH:https://www.eppgroup.eu/download/file/RZD8JSF5A6fsP3weZo48e1cYWX_7xP
 MpYvC-Lw7zX6JVQw6jd2ik1CL6mqAAAAACCMfv
END:VEVENT
END:VCALENDAR
